Package: TaxSEA Version: 1.1.3 Command: /Library/Frameworks/R.framework/Resources/bin/R CMD check --install=check:TaxSEA.install-out.txt --library=/Library/Frameworks/R.framework/Resources/library --no-vignettes --timings TaxSEA_1.1.3.tar.gz StartedAt: 2025-07-21 21:51:15 -0400 (Mon, 21 Jul 2025) EndedAt: 2025-07-21 21:51:31 -0400 (Mon, 21 Jul 2025) EllapsedTime: 16.2 seconds RetCode: 0 Status: OK CheckDir: TaxSEA.Rcheck Warnings: 0