Package: TargetSearch Version: 2.11.1 Command: F:\biocbuild\bbs-3.22-bioc\R\bin\R.exe CMD check --no-multiarch --install=check:TargetSearch.install-out.txt --library=F:\biocbuild\bbs-3.22-bioc\R\library --no-vignettes --timings TargetSearch_2.11.1.tar.gz StartedAt: 2025-08-15 08:41:00 -0400 (Fri, 15 Aug 2025) EndedAt: 2025-08-15 08:43:07 -0400 (Fri, 15 Aug 2025) EllapsedTime: 127.6 seconds RetCode: 0 Status: OK CheckDir: TargetSearch.Rcheck Warnings: 0