Package: TargetSearch Version: 2.11.1 Command: rm -rf TargetSearch.buildbin-libdir && mkdir TargetSearch.buildbin-libdir && F:\biocbuild\bbs-3.22-bioc\R\bin\R.exe CMD INSTALL --build --library=TargetSearch.buildbin-libdir TargetSearch_2.11.1.tar.gz StartedAt: 2025-08-15 11:28:17 -0400 (Fri, 15 Aug 2025) EndedAt: 2025-08-15 11:30:16 -0400 (Fri, 15 Aug 2025) EllapsedTime: 119.1 seconds RetCode: 0 Status: OK PackageFile: TargetSearch_2.11.1.zip PackageFileSize: 1.256 MiB