Package: TargetSearch Version: 2.11.1 Command: /home/biocbuild/bbs-3.22-bioc/R/bin/R CMD check --install=check:TargetSearch.install-out.txt --library=/home/biocbuild/bbs-3.22-bioc/R/site-library --timings TargetSearch_2.11.1.tar.gz StartedAt: 2025-10-04 05:00:04 -0400 (Sat, 04 Oct 2025) EndedAt: 2025-10-04 05:01:24 -0400 (Sat, 04 Oct 2025) EllapsedTime: 80.2 seconds RetCode: 0 Status: OK CheckDir: TargetSearch.Rcheck Warnings: 0