Package: TargetSearch Version: 2.11.1 Command: /Library/Frameworks/R.framework/Resources/bin/R CMD INSTALL TargetSearch StartedAt: 2025-10-05 15:05:07 -0400 (Sun, 05 Oct 2025) EndedAt: 2025-10-05 15:05:29 -0400 (Sun, 05 Oct 2025) EllapsedTime: 22.5 seconds RetCode: 0 Status: OK