Package: TargetSearch Version: 2.11.1 Command: /Library/Frameworks/R.framework/Resources/bin/R CMD build --keep-empty-dirs --no-resave-data TargetSearch StartedAt: 2025-10-03 19:18:30 -0400 (Fri, 03 Oct 2025) EndedAt: 2025-10-03 19:19:21 -0400 (Fri, 03 Oct 2025) EllapsedTime: 51.4 seconds RetCode: 0 Status: OK PackageFile: TargetSearch_2.11.1.tar.gz PackageFileSize: 720.5 KiB