Package: TargetScore Version: 1.47.0 Command: /home/biocbuild/R/R/bin/R CMD build --keep-empty-dirs --no-resave-data TargetScore StartedAt: 2025-10-03 03:45:13 -0000 (Fri, 03 Oct 2025) EndedAt: 2025-10-03 03:45:34 -0000 (Fri, 03 Oct 2025) EllapsedTime: 21.0 seconds RetCode: 0 Status: OK PackageFile: TargetScore_1.47.0.tar.gz PackageFileSize: 1.228 MiB