Package: TargetScore Version: 1.47.0 Command: /Library/Frameworks/R.framework/Resources/bin/R CMD build --keep-empty-dirs --no-resave-data TargetScore StartedAt: 2025-10-05 19:16:05 -0400 (Sun, 05 Oct 2025) EndedAt: 2025-10-05 19:16:30 -0400 (Sun, 05 Oct 2025) EllapsedTime: 24.0 seconds RetCode: 0 Status: OK PackageFile: TargetScore_1.47.0.tar.gz PackageFileSize: 1.226 MiB