Package: TargetScore Version: 1.47.0 Command: /Library/Frameworks/R.framework/Resources/bin/R CMD build --keep-empty-dirs --no-resave-data TargetScore StartedAt: 2025-10-03 17:54:16 -0400 (Fri, 03 Oct 2025) EndedAt: 2025-10-03 17:54:27 -0400 (Fri, 03 Oct 2025) EllapsedTime: 11.1 seconds RetCode: 0 Status: OK PackageFile: TargetScore_1.47.0.tar.gz PackageFileSize: 1.227 MiB