Package: TVTB Version: 1.35.2 Command: /home/biocbuild/bbs-3.22-bioc/R/bin/R CMD INSTALL TVTB StartedAt: 2025-10-05 15:46:56 -0400 (Sun, 05 Oct 2025) EndedAt: 2025-10-05 15:47:54 -0400 (Sun, 05 Oct 2025) EllapsedTime: 58.3 seconds RetCode: 0 Status: OK