Package: TVTB Version: 1.35.1 Command: /Library/Frameworks/R.framework/Resources/bin/R CMD check --install=check:TVTB.install-out.txt --library=/Library/Frameworks/R.framework/Resources/library --no-vignettes --timings TVTB_1.35.1.tar.gz StartedAt: 2025-07-19 00:10:10 -0400 (Sat, 19 Jul 2025) EndedAt: 2025-07-19 00:17:22 -0400 (Sat, 19 Jul 2025) EllapsedTime: 431.7 seconds RetCode: 1 Status: ERROR CheckDir: TVTB.Rcheck Warnings: NA