Package: TVTB Version: 1.35.1 Command: rm -rf TVTB.buildbin-libdir && mkdir TVTB.buildbin-libdir && /Users/biocbuild/BBS/utils/build-universal.sh TVTB_1.35.1.tar.gz /Library/Frameworks/R.framework/Resources/bin/R TVTB.buildbin-libdir StartedAt: 2025-07-19 01:17:52 -0400 (Sat, 19 Jul 2025) EndedAt: 2025-07-19 01:19:14 -0400 (Sat, 19 Jul 2025) EllapsedTime: 81.8 seconds RetCode: 0 Status: OK PackageFile: TVTB_1.35.1.tgz PackageFileSize: 2.751 MiB