Package: TVTB Version: 1.35.1 Maintainer: Kevin Rue-Albrecht MaintainerEmail: kevinrue67 at gmail.com git_url: https://git.bioconductor.org/packages/TVTB git_branch: devel git_last_commit: 155fa9d git_last_commit_date: 2025-07-17 20:31:15 -0400 (Thu, 17 Jul 2025)