Package: TSAR Version: 1.7.0 Command: F:\biocbuild\bbs-3.22-bioc\R\bin\R.exe CMD check --no-multiarch --install=check:TSAR.install-out.txt --library=F:\biocbuild\bbs-3.22-bioc\R\library --no-vignettes --timings TSAR_1.7.0.tar.gz StartedAt: 2025-07-22 07:52:08 -0400 (Tue, 22 Jul 2025) EndedAt: 2025-07-22 07:55:30 -0400 (Tue, 22 Jul 2025) EllapsedTime: 201.3 seconds RetCode: 0 Status: OK CheckDir: TSAR.Rcheck Warnings: 0