Package: TSAR Version: 1.7.0 Command: chmod a+r TSAR -R && F:\biocbuild\bbs-3.22-bioc\R\bin\R.exe CMD build --keep-empty-dirs --no-resave-data TSAR StartedAt: 2025-07-20 22:41:06 -0400 (Sun, 20 Jul 2025) EndedAt: 2025-07-20 22:44:09 -0400 (Sun, 20 Jul 2025) EllapsedTime: 183.1 seconds RetCode: 0 Status: OK PackageFile: TSAR_1.7.0.tar.gz PackageFileSize: 3.549 MiB