Package: TSAR Version: 1.7.0 Command: /home/biocbuild/bbs-3.22-bioc/R/bin/R CMD INSTALL TSAR StartedAt: 2025-07-02 15:13:49 -0400 (Wed, 02 Jul 2025) EndedAt: 2025-07-02 15:14:05 -0400 (Wed, 02 Jul 2025) EllapsedTime: 16.1 seconds RetCode: 0 Status: OK