Package: TSAR Version: 1.7.0 Command: /home/biocbuild/bbs-3.22-bioc/R/bin/R CMD build --keep-empty-dirs --no-resave-data --md5 TSAR StartedAt: 2025-07-02 19:47:24 -0400 (Wed, 02 Jul 2025) EndedAt: 2025-07-02 19:49:26 -0400 (Wed, 02 Jul 2025) EllapsedTime: 122.1 seconds RetCode: 0 Status: OK PackageFile: TSAR_1.7.0.tar.gz PackageFileSize: 3.927 MiB