Package: TSAR Version: 1.7.0 Command: /Library/Frameworks/R.framework/Resources/bin/R CMD build --keep-empty-dirs --no-resave-data TSAR StartedAt: 2025-07-11 17:49:12 -0400 (Fri, 11 Jul 2025) EndedAt: 2025-07-11 17:49:56 -0400 (Fri, 11 Jul 2025) EllapsedTime: 44.5 seconds RetCode: 0 Status: OK PackageFile: TSAR_1.7.0.tar.gz PackageFileSize: 4.047 MiB