Package: TRONCO Version: 2.41.0 Command: /home/biocbuild/R/R/bin/R CMD INSTALL TRONCO StartedAt: 2025-07-17 20:25:13 -0000 (Thu, 17 Jul 2025) EndedAt: 2025-07-17 20:25:30 -0000 (Thu, 17 Jul 2025) EllapsedTime: 17.2 seconds RetCode: 0 Status: OK