Package: TRONCO Version: 2.41.1 Command: /home/biocbuild/bbs-3.22-bioc/R/bin/R CMD INSTALL TRONCO StartedAt: 2025-10-03 15:56:24 -0400 (Fri, 03 Oct 2025) EndedAt: 2025-10-03 15:56:35 -0400 (Fri, 03 Oct 2025) EllapsedTime: 11.4 seconds RetCode: 0 Status: OK