Package: TREG Version: 1.13.0 Command: F:\biocbuild\bbs-3.22-bioc\R\bin\R.exe CMD INSTALL TREG StartedAt: 2025-07-21 16:15:18 -0400 (Mon, 21 Jul 2025) EndedAt: 2025-07-21 16:15:45 -0400 (Mon, 21 Jul 2025) EllapsedTime: 26.5 seconds RetCode: 0 Status: OK