Package: TREG Version: 1.13.0 Command: F:\biocbuild\bbs-3.22-bioc\R\bin\R.exe CMD check --no-multiarch --install=check:TREG.install-out.txt --library=F:\biocbuild\bbs-3.22-bioc\R\library --no-vignettes --timings TREG_1.13.0.tar.gz StartedAt: 2025-07-22 07:49:00 -0400 (Tue, 22 Jul 2025) EndedAt: 2025-07-22 07:51:58 -0400 (Tue, 22 Jul 2025) EllapsedTime: 178.1 seconds RetCode: 0 Status: OK CheckDir: TREG.Rcheck Warnings: 0