Package: TREG Version: 1.13.0 Command: /home/biocbuild/bbs-3.22-bioc/R/bin/R CMD INSTALL TREG StartedAt: 2025-07-15 15:33:04 -0400 (Tue, 15 Jul 2025) EndedAt: 2025-07-15 15:33:24 -0400 (Tue, 15 Jul 2025) EllapsedTime: 20.1 seconds RetCode: 0 Status: OK