Package: TPP2D Version: 1.25.0 Command: /Library/Frameworks/R.framework/Resources/bin/R CMD INSTALL TPP2D StartedAt: 2025-07-03 15:05:33 -0400 (Thu, 03 Jul 2025) EndedAt: 2025-07-03 15:05:36 -0400 (Thu, 03 Jul 2025) EllapsedTime: 2.9 seconds RetCode: 0 Status: OK