Package: TPP2D Version: 1.25.0 Command: /Library/Frameworks/R.framework/Resources/bin/R CMD build --keep-empty-dirs --no-resave-data TPP2D StartedAt: 2025-07-03 17:47:52 -0400 (Thu, 03 Jul 2025) EndedAt: 2025-07-03 17:48:05 -0400 (Thu, 03 Jul 2025) EllapsedTime: 13.1 seconds RetCode: 0 Status: OK PackageFile: TPP2D_1.25.0.tar.gz PackageFileSize: 2.295 MiB