Package: TPP2D Version: 1.25.0 Command: rm -rf TPP2D.buildbin-libdir && mkdir TPP2D.buildbin-libdir && /Users/biocbuild/BBS/utils/build-universal.sh TPP2D_1.25.0.tar.gz /Library/Frameworks/R.framework/Resources/bin/R TPP2D.buildbin-libdir StartedAt: 2025-07-04 22:37:23 -0400 (Fri, 04 Jul 2025) EndedAt: 2025-07-04 22:37:27 -0400 (Fri, 04 Jul 2025) EllapsedTime: 4.1 seconds RetCode: 0 Status: OK PackageFile: TPP2D_1.25.0.tgz PackageFileSize: 1.892 MiB