Package: TPP Version: 3.37.0 Command: /home/biocbuild/R/R/bin/R CMD INSTALL TPP StartedAt: 2025-07-10 21:18:37 -0000 (Thu, 10 Jul 2025) EndedAt: 2025-07-10 21:18:57 -0000 (Thu, 10 Jul 2025) EllapsedTime: 20.2 seconds RetCode: 0 Status: OK