Package: TPP Version: 3.37.0 Command: F:\biocbuild\bbs-3.22-bioc\R\bin\R.exe CMD INSTALL TPP StartedAt: 2025-07-24 15:48:07 -0400 (Thu, 24 Jul 2025) EndedAt: 2025-07-24 15:49:54 -0400 (Thu, 24 Jul 2025) EllapsedTime: 106.3 seconds RetCode: 0 Status: OK