Package: TPP Version: 3.37.0 Command: chmod a+r TPP -R && F:\biocbuild\bbs-3.22-bioc\R\bin\R.exe CMD build --keep-empty-dirs --no-resave-data TPP StartedAt: 2025-07-24 22:51:53 -0400 (Thu, 24 Jul 2025) EndedAt: 2025-07-24 22:55:21 -0400 (Thu, 24 Jul 2025) EllapsedTime: 207.7 seconds RetCode: 0 Status: OK PackageFile: TPP_3.37.0.tar.gz PackageFileSize: 8.438 MiB