Package: TOAST Version: 1.23.0 Command: /home/biocbuild/R/R/bin/R CMD INSTALL TOAST StartedAt: 2025-07-03 20:37:13 -0000 (Thu, 03 Jul 2025) EndedAt: 2025-07-03 20:37:47 -0000 (Thu, 03 Jul 2025) EllapsedTime: 34.0 seconds RetCode: 0 Status: OK