Package: TOAST Version: 1.23.0 Command: /home/biocbuild/R/R/bin/R CMD build --keep-empty-dirs --no-resave-data TOAST StartedAt: 2025-07-04 03:28:54 -0000 (Fri, 04 Jul 2025) EndedAt: 2025-07-04 03:32:14 -0000 (Fri, 04 Jul 2025) EllapsedTime: 200.1 seconds RetCode: 0 Status: OK PackageFile: TOAST_1.23.0.tar.gz PackageFileSize: 3.365 MiB