Package: TOAST Version: 1.23.0 Command: /home/biocbuild/bbs-3.22-bioc/R/bin/R CMD check --install=check:TOAST.install-out.txt --library=/home/biocbuild/bbs-3.22-bioc/R/site-library --timings TOAST_1.23.0.tar.gz StartedAt: 2025-07-07 03:12:02 -0400 (Mon, 07 Jul 2025) EndedAt: 2025-07-07 03:18:50 -0400 (Mon, 07 Jul 2025) EllapsedTime: 408.5 seconds RetCode: 0 Status: OK CheckDir: TOAST.Rcheck Warnings: 0