Package: TOAST Version: 1.23.0 Command: /Library/Frameworks/R.framework/Resources/bin/R CMD INSTALL TOAST StartedAt: 2025-07-04 15:18:56 -0400 (Fri, 04 Jul 2025) EndedAt: 2025-07-04 15:19:30 -0400 (Fri, 04 Jul 2025) EllapsedTime: 34.2 seconds RetCode: 0 Status: OK