Package: TOAST Version: 1.23.0 Command: /Library/Frameworks/R.framework/Resources/bin/R CMD check --install=check:TOAST.install-out.txt --library=/Library/Frameworks/R.framework/Resources/library --no-vignettes --timings TOAST_1.23.0.tar.gz StartedAt: 2025-07-04 23:59:56 -0400 (Fri, 04 Jul 2025) EndedAt: 2025-07-05 00:04:51 -0400 (Sat, 05 Jul 2025) EllapsedTime: 295.4 seconds RetCode: 0 Status: OK CheckDir: TOAST.Rcheck Warnings: 0