Package: TOAST Version: 1.23.0 Command: /Library/Frameworks/R.framework/Resources/bin/R CMD build --keep-empty-dirs --no-resave-data TOAST StartedAt: 2025-07-03 18:45:44 -0400 (Thu, 03 Jul 2025) EndedAt: 2025-07-03 18:48:27 -0400 (Thu, 03 Jul 2025) EllapsedTime: 163.3 seconds RetCode: 0 Status: OK PackageFile: TOAST_1.23.0.tar.gz PackageFileSize: 3.622 MiB