Package: TMSig Version: 1.3.0 Command: /home/biocbuild/R/R/bin/R CMD INSTALL TMSig StartedAt: 2025-07-10 21:37:26 -0000 (Thu, 10 Jul 2025) EndedAt: 2025-07-10 21:37:55 -0000 (Thu, 10 Jul 2025) EllapsedTime: 29.1 seconds RetCode: 0 Status: OK