Package: TMSig Version: 1.3.0 Command: /home/biocbuild/R/R/bin/R CMD check --install=check:TMSig.install-out.txt --library=/home/biocbuild/R/R/site-library --no-vignettes --timings TMSig_1.3.0.tar.gz StartedAt: 2025-07-11 13:08:50 -0000 (Fri, 11 Jul 2025) EndedAt: 2025-07-11 13:11:52 -0000 (Fri, 11 Jul 2025) EllapsedTime: 181.1 seconds RetCode: 0 Status: OK CheckDir: TMSig.Rcheck Warnings: 0