Package: TMSig Version: 1.3.0 Command: chmod a+r TMSig -R && F:\biocbuild\bbs-3.22-bioc\R\bin\R.exe CMD build --keep-empty-dirs --no-resave-data TMSig StartedAt: 2025-07-24 22:50:53 -0400 (Thu, 24 Jul 2025) EndedAt: 2025-07-24 22:52:09 -0400 (Thu, 24 Jul 2025) EllapsedTime: 76.4 seconds RetCode: 0 Status: OK PackageFile: TMSig_1.3.0.tar.gz PackageFileSize: 2.588 MiB