Package: TMSig Version: 1.3.0 Command: rm -rf TMSig.buildbin-libdir && mkdir TMSig.buildbin-libdir && F:\biocbuild\bbs-3.22-bioc\R\bin\R.exe CMD INSTALL --build --library=TMSig.buildbin-libdir TMSig_1.3.0.tar.gz StartedAt: 2025-07-25 10:31:16 -0400 (Fri, 25 Jul 2025) EndedAt: 2025-07-25 10:31:49 -0400 (Fri, 25 Jul 2025) EllapsedTime: 32.5 seconds RetCode: 0 Status: OK PackageFile: TMSig_1.3.0.zip PackageFileSize: 2.63 MiB