Package: TIN Version: 1.41.0 Command: /home/biocbuild/R/R/bin/R CMD check --install=check:TIN.install-out.txt --library=/home/biocbuild/R/R/site-library --no-vignettes --timings TIN_1.41.0.tar.gz StartedAt: 2025-07-08 11:47:52 -0000 (Tue, 08 Jul 2025) EndedAt: 2025-07-08 11:51:50 -0000 (Tue, 08 Jul 2025) EllapsedTime: 238.2 seconds RetCode: 0 Status: OK CheckDir: TIN.Rcheck Warnings: 0