Package: TIN Version: 1.41.0 Command: F:\biocbuild\bbs-3.22-bioc\R\bin\R.exe CMD check --no-multiarch --install=check:TIN.install-out.txt --library=F:\biocbuild\bbs-3.22-bioc\R\library --no-vignettes --timings TIN_1.41.0.tar.gz StartedAt: 2025-07-12 07:23:57 -0400 (Sat, 12 Jul 2025) EndedAt: 2025-07-12 07:28:01 -0400 (Sat, 12 Jul 2025) EllapsedTime: 243.8 seconds RetCode: 0 Status: OK CheckDir: TIN.Rcheck Warnings: 0