Package: TIN Version: 1.41.0 Command: chmod a+r TIN -R && F:\biocbuild\bbs-3.22-bioc\R\bin\R.exe CMD build --keep-empty-dirs --no-resave-data TIN StartedAt: 2025-07-01 22:34:33 -0400 (Tue, 01 Jul 2025) EndedAt: 2025-07-01 22:35:49 -0400 (Tue, 01 Jul 2025) EllapsedTime: 76.5 seconds RetCode: 0 Status: OK PackageFile: TIN_1.41.0.tar.gz PackageFileSize: 4.589 MiB