Package: TIN Version: 1.41.0 Command: rm -rf TIN.buildbin-libdir && mkdir TIN.buildbin-libdir && F:\biocbuild\bbs-3.22-bioc\R\bin\R.exe CMD INSTALL --build --library=TIN.buildbin-libdir TIN_1.41.0.tar.gz StartedAt: 2025-07-02 10:06:14 -0400 (Wed, 02 Jul 2025) EndedAt: 2025-07-02 10:06:48 -0400 (Wed, 02 Jul 2025) EllapsedTime: 33.8 seconds RetCode: 0 Status: OK PackageFile: TIN_1.41.0.zip PackageFileSize: 4.561 MiB