Package: TIN Version: 1.41.0 Command: /home/biocbuild/bbs-3.22-bioc/R/bin/R CMD INSTALL TIN StartedAt: 2025-07-11 15:41:22 -0400 (Fri, 11 Jul 2025) EndedAt: 2025-07-11 15:41:42 -0400 (Fri, 11 Jul 2025) EllapsedTime: 20.6 seconds RetCode: 0 Status: OK