Package: TIN Version: 1.41.0 Command: /home/biocbuild/bbs-3.22-bioc/R/bin/R CMD check --install=check:TIN.install-out.txt --library=/home/biocbuild/bbs-3.22-bioc/R/site-library --timings TIN_1.41.0.tar.gz StartedAt: 2025-07-12 03:15:41 -0400 (Sat, 12 Jul 2025) EndedAt: 2025-07-12 03:19:12 -0400 (Sat, 12 Jul 2025) EllapsedTime: 210.2 seconds RetCode: 0 Status: OK CheckDir: TIN.Rcheck Warnings: 0