Package: TIN Version: 1.41.0 Command: /Library/Frameworks/R.framework/Resources/bin/R CMD build --keep-empty-dirs --no-resave-data TIN StartedAt: 2025-07-01 18:50:46 -0400 (Tue, 01 Jul 2025) EndedAt: 2025-07-01 18:51:49 -0400 (Tue, 01 Jul 2025) EllapsedTime: 63.6 seconds RetCode: 0 Status: OK PackageFile: TIN_1.41.0.tar.gz PackageFileSize: 4.592 MiB