Package: TIN Version: 1.41.0 Command: /Library/Frameworks/R.framework/Resources/bin/R CMD build --keep-empty-dirs --no-resave-data TIN StartedAt: 2025-07-14 17:47:15 -0400 (Mon, 14 Jul 2025) EndedAt: 2025-07-14 17:47:39 -0400 (Mon, 14 Jul 2025) EllapsedTime: 24.3 seconds RetCode: 0 Status: OK PackageFile: TIN_1.41.0.tar.gz PackageFileSize: 4.593 MiB