Package: TFHAZ Version: 1.31.0 Command: F:\biocbuild\bbs-3.22-bioc\R\bin\R.exe CMD INSTALL TFHAZ StartedAt: 2025-07-24 16:51:24 -0400 (Thu, 24 Jul 2025) EndedAt: 2025-07-24 16:52:14 -0400 (Thu, 24 Jul 2025) EllapsedTime: 50.2 seconds RetCode: 0 Status: OK