Package: TFHAZ Version: 1.31.0 Command: chmod a+r TFHAZ -R && F:\biocbuild\bbs-3.22-bioc\R\bin\R.exe CMD build --keep-empty-dirs --no-resave-data TFHAZ StartedAt: 2025-07-24 22:48:03 -0400 (Thu, 24 Jul 2025) EndedAt: 2025-07-24 22:49:42 -0400 (Thu, 24 Jul 2025) EllapsedTime: 99.5 seconds RetCode: 0 Status: OK PackageFile: TFHAZ_1.31.0.tar.gz PackageFileSize: 2.399 MiB