Package: TFHAZ Version: 1.31.0 Command: /home/biocbuild/bbs-3.22-bioc/R/bin/R CMD INSTALL TFHAZ StartedAt: 2025-07-01 15:39:23 -0400 (Tue, 01 Jul 2025) EndedAt: 2025-07-01 15:40:04 -0400 (Tue, 01 Jul 2025) EllapsedTime: 41.0 seconds RetCode: 0 Status: OK